BEGIN:VCALENDAR
VERSION:2.0
PRODID:-//Tukios.com/
BEGIN:VEVENT
UID:a27a5e44-01c1-47c7-8951-15a9b3ad0a44@www.paquelet.com
DTSTAMP:20260421T162059Z
DTSTART:20260424T180000Z
DTEND:20260424T190000Z
SUMMARY:Funeral Service
DESCRIPTION:
URL:https://www.paquelet.com/obituaries/trenton-campbell
LOCATION: 1100 Wales Road Northeast  Massillon OH 44646
GEO:40.8101699;-81.5085603
END:VEVENT
END:VCALENDAR