BEGIN:VCALENDAR
VERSION:2.0
PRODID:-//Tukios.com/
BEGIN:VEVENT
UID:698d8ae2-5bb7-4bfa-b262-2544f2e3c52e@www.paquelet.com
DTSTAMP:20260421T162304Z
DTSTART:20260424T130000Z
DTEND:20260424T180000Z
SUMMARY:Visitation
DESCRIPTION:
URL:https://www.paquelet.com/obituaries/trenton-campbell
LOCATION: 1100 Wales Road Northeast  Massillon OH 44646
GEO:40.8101699;-81.5085603
END:VEVENT
END:VCALENDAR