BEGIN:VCALENDAR
VERSION:2.0
PRODID:-//Tukios.com/
BEGIN:VEVENT
UID:ab7aab08-4795-4378-a650-de2be4bcb6b0@www.paquelet.com
DTSTAMP:20260424T172913Z
DTSTART:20260712T180000Z
DTEND:20260712T190000Z
SUMMARY:Celebration of Life
DESCRIPTION:
URL:https://www.paquelet.com/obituaries/marlene-lepley
LOCATION:Living Water Church 1135 Lincoln Way East  Massillon OH 44646
GEO:40.7992452;-81.5103513
END:VEVENT
END:VCALENDAR