BEGIN:VCALENDAR
VERSION:2.0
PRODID:-//Tukios.com/
BEGIN:VEVENT
UID:b8964a96-a1e2-40f4-910a-756d7ff5ab02@www.paquelet.com
DTSTAMP:20260425T005752Z
DTSTART:20260501T160000Z
DTEND:20260501T170000Z
SUMMARY:Funeral Service
DESCRIPTION:
URL:https://www.paquelet.com/obituaries/latoria-buchanan
LOCATION: 920 3rd Street Southeast  Massillon OH 44646
GEO:40.786961;-81.5133258
END:VEVENT
END:VCALENDAR