BEGIN:VCALENDAR
VERSION:2.0
PRODID:-//Tukios.com/
BEGIN:VEVENT
UID:2b98996d-2bfc-42c5-a8ae-56ae7dc53a87@www.paquelet.com
DTSTAMP:20260425T005639Z
DTSTART:20260501T140000Z
DTEND:20260501T160000Z
SUMMARY:Visitation
DESCRIPTION:
URL:https://www.paquelet.com/obituaries/latoria-buchanan
LOCATION: 920 3rd Street Southeast  Massillon OH 44646
GEO:40.786961;-81.5133258
END:VEVENT
END:VCALENDAR