BEGIN:VCALENDAR
VERSION:2.0
PRODID:-//Tukios.com/
BEGIN:VEVENT
UID:d2881caa-0401-4414-91c7-d5f78d6893ee@www.paquelet.com
DTSTAMP:20260421T212911Z
DTSTART:20260427
SUMMARY:Graveside Service
DESCRIPTION:
URL:https://www.paquelet.com/obituaries/johnie-lewis
LOCATION: 2698 Broadway Avenue Northeast  Louisville OH 44641
GEO:40.816158;-81.29683
END:VEVENT
END:VCALENDAR