BEGIN:VCALENDAR
VERSION:2.0
PRODID:-//Tukios.com/
BEGIN:VEVENT
UID:418676fd-6601-4c25-92ce-293aef80def2@www.paquelet.com
DTSTAMP:20260421T212616Z
DTSTART:20260427T160000Z
DTEND:20260427T170000Z
SUMMARY:Funeral Service
DESCRIPTION:
URL:https://www.paquelet.com/obituaries/johnie-lewis
LOCATION: 1100 Wales Rd NE  Massillon OH 44646
GEO:40.8101699;-81.5085603
END:VEVENT
END:VCALENDAR