BEGIN:VCALENDAR
VERSION:2.0
PRODID:-//Tukios.com/
BEGIN:VEVENT
UID:82847f0a-a0a6-47c0-99a2-81df5cb29a17@www.paquelet.com
DTSTAMP:20260421T212514Z
DTSTART:20260427T140000Z
DTEND:20260427T160000Z
SUMMARY:Visitation
DESCRIPTION:
URL:https://www.paquelet.com/obituaries/johnie-lewis
LOCATION: 1100 Wales Rd NE  Massillon OH 44646
GEO:40.8101699;-81.5085603
END:VEVENT
END:VCALENDAR