BEGIN:VCALENDAR
VERSION:2.0
PRODID:-//Tukios.com/
BEGIN:VEVENT
UID:2424efc3-34fb-4487-a77b-d46b0816b0af@www.paquelet.com
DTSTAMP:20260422T214611Z
DTSTART:20260425T150000Z
DTEND:20260425T160000Z
SUMMARY:Funeral Service
DESCRIPTION:
URL:https://www.paquelet.com/obituaries/janet-whitfield
LOCATION: 1100 Wales Road Northeast  Massillon OH 44646
GEO:40.8101699;-81.5085603
END:VEVENT
END:VCALENDAR