BEGIN:VCALENDAR
VERSION:2.0
PRODID:-//Tukios.com/
BEGIN:VEVENT
UID:95108c13-1098-4cfd-8d0b-d03dcd3646a1@www.paquelet.com
DTSTAMP:20260422T214803Z
DTSTART:20260425T140000Z
DTEND:20260425T150000Z
SUMMARY:Visitation
DESCRIPTION:
URL:https://www.paquelet.com/obituaries/janet-whitfield
LOCATION:Paquelet Funeral Home 1100 Wales Road Northeast  Massillon OH 
	44646
GEO:40.8101699;-81.5085603
END:VEVENT
END:VCALENDAR