BEGIN:VCALENDAR
VERSION:2.0
PRODID:-//Tukios.com/
BEGIN:VEVENT
UID:b3549bcf-e6f4-498a-8f45-64fb9b8ad4d4@www.paquelet.com
DTSTAMP:20260425T002419Z
DTSTART:20260501
SUMMARY:Graveside Service
DESCRIPTION:
URL:https://www.paquelet.com/obituaries/freddie-diss
LOCATION: 4414 Cleveland Avenue Northwest  Canton OH 44709
GEO:40.8489486;-81.3892612
END:VEVENT
END:VCALENDAR