BEGIN:VCALENDAR
VERSION:2.0
PRODID:-//Tukios.com/
BEGIN:VEVENT
UID:a142984f-1f43-4d7b-a07c-6ed5e1d9830d@www.paquelet.com
DTSTAMP:20260425T002540Z
DTSTART:20260501T140000Z
DTEND:20260501T150000Z
SUMMARY:Funeral Service
DESCRIPTION:
URL:https://www.paquelet.com/obituaries/freddie-diss
LOCATION: 1100 Wales Rd NE  Massillon OH 44646
GEO:40.8101699;-81.5085603
END:VEVENT
END:VCALENDAR