BEGIN:VCALENDAR
VERSION:2.0
PRODID:-//Tukios.com/
BEGIN:VEVENT
UID:f051b250-7ea3-4a17-8cfb-15b899fb6aee@www.paquelet.com
DTSTAMP:20260425T002550Z
DTSTART:20260501T130000Z
DTEND:20260501T140000Z
SUMMARY:Visitation
DESCRIPTION:
URL:https://www.paquelet.com/obituaries/freddie-diss
LOCATION: 1100 Wales Rd NE  Massillon OH 44646
GEO:40.8101699;-81.5085603
END:VEVENT
END:VCALENDAR