BEGIN:VCALENDAR
VERSION:2.0
PRODID:-//Tukios.com/
BEGIN:VEVENT
UID:d5dfdb12-280a-45bb-8707-6848f1a77650@www.paquelet.com
DTSTAMP:20260425T002835Z
DTSTART:20260430T210000Z
DTEND:20260430T230000Z
SUMMARY:Calling Hours
DESCRIPTION:
URL:https://www.paquelet.com/obituaries/freddie-diss
LOCATION: 1100 Wales Rd NE  Massillon OH 44646
GEO:40.8101699;-81.5085603
END:VEVENT
END:VCALENDAR