BEGIN:VCALENDAR
VERSION:2.0
PRODID:-//Tukios.com/
BEGIN:VEVENT
UID:b7704035-854c-46ca-b605-58822fe7defc@www.paquelet.com
DTSTAMP:20260421T220641Z
DTSTART:20260430T180000Z
DTEND:20260430T190000Z
SUMMARY:Graveside Service
DESCRIPTION:
URL:https://www.paquelet.com/obituaries/donna-hibbitts
LOCATION:Sanders Cemetery Low Gap Branch Rd  Branchland WV 25506
GEO:38.2058513;-82.2076348
END:VEVENT
END:VCALENDAR