BEGIN:VCALENDAR
VERSION:2.0
PRODID:-//Tukios.com/
BEGIN:VEVENT
UID:b7fa1e14-53af-449a-9cde-452792bc5efd@www.paquelet.com
DTSTAMP:20260421T220810Z
DTSTART:20260428T190000Z
DTEND:20260428T220000Z
SUMMARY:Visitation
DESCRIPTION:
URL:https://www.paquelet.com/obituaries/donna-hibbitts
LOCATION: 1100 Wales Rd NE  Massillon OH 44646
GEO:40.8101699;-81.5085603
END:VEVENT
END:VCALENDAR